BEGIN:VCALENDAR
VERSION:2.0
PRODID:-//FEGC - ECPv5.11.0//NONSGML v1.0//EN
CALSCALE:GREGORIAN
METHOD:PUBLISH
X-WR-CALNAME:FEGC
X-ORIGINAL-URL:https://www.fegc.be
X-WR-CALDESC:évènements pour FEGC
BEGIN:VTIMEZONE
TZID:UTC
BEGIN:STANDARD
TZOFFSETFROM:+0000
TZOFFSETTO:+0000
TZNAME:UTC
DTSTART:20220101T000000
END:STANDARD
END:VTIMEZONE
BEGIN:VEVENT
DTSTART;VALUE=DATE:20220330
DTEND;VALUE=DATE:20220331
DTSTAMP:20260420T162624
CREATED:20211223T150411Z
LAST-MODIFIED:20211223T150411Z
UID:3963-1648598400-1648684799@www.fegc.be
SUMMARY:FEGC - Comité Fédéral
DESCRIPTION:
URL:https://www.fegc.be/event/fegc-comite-federal-3/
END:VEVENT
END:VCALENDAR